BEGIN:VCALENDAR
VERSION:2.0
PRODID:-//Covalent Logic//Content Management System//EN
BEGIN:VEVENT
UID:1776859905027.COVALENTLOGIC.COM
DTSTART:20260115T060000Z
DTEND:20260116T055959Z
SUMMARY:New Student Orientation: Spring 2026
LOCATION:
DESCRIPTION:
PRIORITY:5
END:VEVENT
END:VCALENDAR