BEGIN:VCALENDAR
VERSION:2.0
PRODID:-//Covalent Logic//Content Management System//EN
BEGIN:VEVENT
UID:1776858902854.COVALENTLOGIC.COM
DTSTART:20251016T230000Z
DTEND:20251017T011700Z
SUMMARY:Open Mic Knight
LOCATION:
DESCRIPTION:
PRIORITY:5
END:VEVENT
END:VCALENDAR