BEGIN:VCALENDAR
VERSION:2.0
PRODID:-//Covalent Logic//Content Management System//EN
BEGIN:VEVENT
UID:1776858637516.COVALENTLOGIC.COM
DTSTART:20251015T220000Z
DTEND:20251015T000000Z
SUMMARY:Student Government Association - Town Hall Meeting
LOCATION:
DESCRIPTION:
PRIORITY:5
END:VEVENT
END:VCALENDAR