BEGIN:VCALENDAR
VERSION:2.0
PRODID:-//Covalent Logic//Content Management System//EN
BEGIN:VEVENT
UID:1776859014486.COVALENTLOGIC.COM
DTSTART:20251022T230000Z
DTEND:20251023T020000Z
SUMMARY:From Bayou Dreams to Crescent City Queen
LOCATION:
DESCRIPTION:
PRIORITY:5
END:VEVENT
END:VCALENDAR