BEGIN:VCALENDAR
VERSION:2.0
PRODID:-//Covalent Logic//Content Management System//EN
BEGIN:VEVENT
UID:1776673472263.COVALENTLOGIC.COM
DTSTART:20250917T160000Z
DTEND:20250917T190000Z
SUMMARY:Reflect and Relax Awareness Day
LOCATION:University Center (1st Floor)
DESCRIPTION:
PRIORITY:5
END:VEVENT
END:VCALENDAR