BEGIN:VCALENDAR
VERSION:2.0
PRODID:-//Covalent Logic//Content Management System//EN
BEGIN:VEVENT
UID:1776775027991.COVALENTLOGIC.COM
DTSTART:20240412T123000Z
DTEND:20240412T180000Z
SUMMARY:SUNO 2024 Research Conference
LOCATION:
DESCRIPTION:
PRIORITY:5
END:VEVENT
END:VCALENDAR