BEGIN:VCALENDAR
VERSION:2.0
PRODID:-//Covalent Logic//Content Management System//EN
BEGIN:VEVENT
UID:1776986507431.COVALENTLOGIC.COM
DTSTART:20190424T020000Z
DTEND:20190423T050000Z
SUMMARY:Breakfast for Dinner
LOCATION:Knight Dining Hall
DESCRIPTION:
PRIORITY:5
END:VEVENT
END:VCALENDAR