BEGIN:VCALENDAR
VERSION:2.0
PRODID:-//Covalent Logic//Content Management System//EN
BEGIN:VEVENT
UID:1776608122764.COVALENTLOGIC.COM
DTSTART:20190315T150000Z
DTEND:20190315T190000Z
SUMMARY:Annual Social Work Skills-Building Workshop
LOCATION:Millie M. Charles School of Social Work Auditorium
DESCRIPTION:
PRIORITY:5
END:VEVENT
END:VCALENDAR