BEGIN:VCALENDAR
VERSION:2.0
PRODID:-//Covalent Logic//Content Management System//EN
BEGIN:VEVENT
UID:1777173733585.COVALENTLOGIC.COM
DTSTART:20181101T050000Z
DTEND:20181102T045959Z
SUMMARY:Pre-registration for Spring Semester Begins
LOCATION:
DESCRIPTION:
PRIORITY:5
END:VEVENT
END:VCALENDAR